BEGIN:VCALENDAR
VERSION:2.0
PRODID:-//PCTH - ECPv6.15.20//NONSGML v1.0//EN
CALSCALE:GREGORIAN
METHOD:PUBLISH
X-ORIGINAL-URL:https://primarycaredorset.co.uk
X-WR-CALDESC:Events for PCTH
REFRESH-INTERVAL;VALUE=DURATION:PT1H
X-Robots-Tag:noindex
X-PUBLISHED-TTL:PT1H
BEGIN:VTIMEZONE
TZID:Europe/London
BEGIN:DAYLIGHT
TZOFFSETFROM:+0000
TZOFFSETTO:+0100
TZNAME:BST
DTSTART:20250330T010000
END:DAYLIGHT
BEGIN:STANDARD
TZOFFSETFROM:+0100
TZOFFSETTO:+0000
TZNAME:GMT
DTSTART:20251026T010000
END:STANDARD
BEGIN:DAYLIGHT
TZOFFSETFROM:+0000
TZOFFSETTO:+0100
TZNAME:BST
DTSTART:20260329T010000
END:DAYLIGHT
BEGIN:STANDARD
TZOFFSETFROM:+0100
TZOFFSETTO:+0000
TZNAME:GMT
DTSTART:20261025T010000
END:STANDARD
BEGIN:DAYLIGHT
TZOFFSETFROM:+0000
TZOFFSETTO:+0100
TZNAME:BST
DTSTART:20270328T010000
END:DAYLIGHT
BEGIN:STANDARD
TZOFFSETFROM:+0100
TZOFFSETTO:+0000
TZNAME:GMT
DTSTART:20271031T010000
END:STANDARD
END:VTIMEZONE
BEGIN:VEVENT
DTSTART;TZID=Europe/London:20260602T133000
DTEND;TZID=Europe/London:20260602T163000
DTSTAMP:20260425T211102
CREATED:20260417T110247Z
LAST-MODIFIED:20260417T110323Z
UID:10000933-1780407000-1780417800@primarycaredorset.co.uk
SUMMARY:Online training for GP Receptionists: Signposting\, Prioritisation and Telephone Communication
DESCRIPTION:
URL:https://primarycaredorset.co.uk/event/online-training-for-gp-receptionists-signposting-prioritisation-and-telephone-communication-4/
LOCATION:Online
END:VEVENT
BEGIN:VEVENT
DTSTART;TZID=Europe/London:20260716T133000
DTEND;TZID=Europe/London:20260716T163000
DTSTAMP:20260425T211102
CREATED:20260417T115736Z
LAST-MODIFIED:20260417T115736Z
UID:10000947-1784208600-1784219400@primarycaredorset.co.uk
SUMMARY:Online training for GP Receptionists: Signposting\, Prioritisation and Telephone Communication
DESCRIPTION:
URL:https://primarycaredorset.co.uk/event/online-training-for-gp-receptionists-signposting-prioritisation-and-telephone-communication-5/
END:VEVENT
END:VCALENDAR