BEGIN:VCALENDAR
VERSION:2.0
PRODID:-//PCTH - ECPv6.15.20//NONSGML v1.0//EN
CALSCALE:GREGORIAN
METHOD:PUBLISH
X-ORIGINAL-URL:https://primarycaredorset.co.uk
X-WR-CALDESC:Events for PCTH
REFRESH-INTERVAL;VALUE=DURATION:PT1H
X-Robots-Tag:noindex
X-PUBLISHED-TTL:PT1H
BEGIN:VTIMEZONE
TZID:Europe/London
BEGIN:DAYLIGHT
TZOFFSETFROM:+0000
TZOFFSETTO:+0100
TZNAME:BST
DTSTART:20250330T010000
END:DAYLIGHT
BEGIN:STANDARD
TZOFFSETFROM:+0100
TZOFFSETTO:+0000
TZNAME:GMT
DTSTART:20251026T010000
END:STANDARD
BEGIN:DAYLIGHT
TZOFFSETFROM:+0000
TZOFFSETTO:+0100
TZNAME:BST
DTSTART:20260329T010000
END:DAYLIGHT
BEGIN:STANDARD
TZOFFSETFROM:+0100
TZOFFSETTO:+0000
TZNAME:GMT
DTSTART:20261025T010000
END:STANDARD
BEGIN:DAYLIGHT
TZOFFSETFROM:+0000
TZOFFSETTO:+0100
TZNAME:BST
DTSTART:20270328T010000
END:DAYLIGHT
BEGIN:STANDARD
TZOFFSETFROM:+0100
TZOFFSETTO:+0000
TZNAME:GMT
DTSTART:20271031T010000
END:STANDARD
END:VTIMEZONE
BEGIN:VEVENT
DTSTART;TZID=Europe/London:20260421T083000
DTEND;TZID=Europe/London:20260421T173000
DTSTAMP:20260425T195110
CREATED:20260305T083307Z
LAST-MODIFIED:20260305T083307Z
UID:10000913-1776760200-1776792600@primarycaredorset.co.uk
SUMMARY:Injection Update for FCPs
DESCRIPTION:
URL:https://primarycaredorset.co.uk/event/injection-update-for-fcps/
ORGANIZER;CN="AECC":MAILTO:cpd@aecc.ac.uk.
END:VEVENT
BEGIN:VEVENT
DTSTART;TZID=Europe/London:20260403T090000
DTEND;TZID=Europe/London:20260403T130000
DTSTAMP:20260425T195110
CREATED:20260305T074627Z
LAST-MODIFIED:20260305T074627Z
UID:10000908-1775206800-1775221200@primarycaredorset.co.uk
SUMMARY:MSK Image Interpretation and Clinical Reasoning for Healthcare Professionals
DESCRIPTION:
URL:https://primarycaredorset.co.uk/event/msk-image-interpretation-and-clinical-reasoning-for-healthcare-professionals/
ORGANIZER;CN="AECC":MAILTO:cpd@aecc.ac.uk.
END:VEVENT
END:VCALENDAR