BEGIN:VCALENDAR
VERSION:2.0
PRODID:-//PCTH - ECPv6.15.20//NONSGML v1.0//EN
CALSCALE:GREGORIAN
METHOD:PUBLISH
X-WR-CALNAME:PCTH
X-ORIGINAL-URL:https://primarycaredorset.co.uk
X-WR-CALDESC:Events for PCTH
REFRESH-INTERVAL;VALUE=DURATION:PT1H
X-Robots-Tag:noindex
X-PUBLISHED-TTL:PT1H
BEGIN:VTIMEZONE
TZID:Europe/London
BEGIN:DAYLIGHT
TZOFFSETFROM:+0000
TZOFFSETTO:+0100
TZNAME:BST
DTSTART:20250330T010000
END:DAYLIGHT
BEGIN:STANDARD
TZOFFSETFROM:+0100
TZOFFSETTO:+0000
TZNAME:GMT
DTSTART:20251026T010000
END:STANDARD
BEGIN:DAYLIGHT
TZOFFSETFROM:+0000
TZOFFSETTO:+0100
TZNAME:BST
DTSTART:20260329T010000
END:DAYLIGHT
BEGIN:STANDARD
TZOFFSETFROM:+0100
TZOFFSETTO:+0000
TZNAME:GMT
DTSTART:20261025T010000
END:STANDARD
BEGIN:DAYLIGHT
TZOFFSETFROM:+0000
TZOFFSETTO:+0100
TZNAME:BST
DTSTART:20270328T010000
END:DAYLIGHT
BEGIN:STANDARD
TZOFFSETFROM:+0100
TZOFFSETTO:+0000
TZNAME:GMT
DTSTART:20271031T010000
END:STANDARD
END:VTIMEZONE
BEGIN:VEVENT
DTSTART;TZID=Europe/London:20260428T093000
DTEND;TZID=Europe/London:20260428T130000
DTSTAMP:20260425T122940
CREATED:20260305T084722Z
LAST-MODIFIED:20260305T084722Z
UID:10000917-1777368600-1777381200@primarycaredorset.co.uk
SUMMARY:Building Confidence & Resilience
DESCRIPTION:
URL:https://primarycaredorset.co.uk/event/building-confidence-resilience/
END:VEVENT
BEGIN:VEVENT
DTSTART;TZID=Europe/London:20260429T093000
DTEND;TZID=Europe/London:20260429T123000
DTSTAMP:20260425T122940
CREATED:20260305T085036Z
LAST-MODIFIED:20260305T085517Z
UID:10000918-1777455000-1777465800@primarycaredorset.co.uk
SUMMARY:Understanding Medical Terminology
DESCRIPTION:To book\, please email: bookings@networkforpractices.co.uk
URL:https://primarycaredorset.co.uk/event/understanding-medica-terminology/
END:VEVENT
BEGIN:VEVENT
DTSTART;TZID=Europe/London:20260430T092000
DTEND;TZID=Europe/London:20260430T163000
DTSTAMP:20260425T122940
CREATED:20260305T085802Z
LAST-MODIFIED:20260305T085802Z
UID:10000919-1777540800-1777566600@primarycaredorset.co.uk
SUMMARY:The Menopause Course
DESCRIPTION:
URL:https://primarycaredorset.co.uk/event/the-menopause-course-2/
END:VEVENT
BEGIN:VEVENT
DTSTART;TZID=Europe/London:20260505T133000
DTEND;TZID=Europe/London:20260505T163000
DTSTAMP:20260425T122940
CREATED:20260330T164427Z
LAST-MODIFIED:20260330T164427Z
UID:10000921-1777987800-1777998600@primarycaredorset.co.uk
SUMMARY:New GP Receptionist Training
DESCRIPTION:
URL:https://primarycaredorset.co.uk/event/new-gp-receptionist-training/
END:VEVENT
BEGIN:VEVENT
DTSTART;TZID=Europe/London:20260506T133000
DTEND;TZID=Europe/London:20260506T163000
DTSTAMP:20260425T122940
CREATED:20260330T164640Z
LAST-MODIFIED:20260330T164718Z
UID:10000922-1778074200-1778085000@primarycaredorset.co.uk
SUMMARY:Essential Communication and Care Navigation
DESCRIPTION:
URL:https://primarycaredorset.co.uk/event/essential-communication-and-care-navigation/
END:VEVENT
BEGIN:VEVENT
DTSTART;TZID=Europe/London:20260511T092000
DTEND;TZID=Europe/London:20260511T163000
DTSTAMP:20260425T122940
CREATED:20260330T164850Z
LAST-MODIFIED:20260330T164850Z
UID:10000923-1778491200-1778517000@primarycaredorset.co.uk
SUMMARY:The Menopause Course
DESCRIPTION:
URL:https://primarycaredorset.co.uk/event/the-menopause-course-3/
END:VEVENT
BEGIN:VEVENT
DTSTART;TZID=Europe/London:20260512T093000
DTEND;TZID=Europe/London:20260512T120000
DTSTAMP:20260425T122940
CREATED:20260330T165016Z
LAST-MODIFIED:20260330T165016Z
UID:10000924-1778578200-1778587200@primarycaredorset.co.uk
SUMMARY:Menopause Update for the Nursing Team
DESCRIPTION:
URL:https://primarycaredorset.co.uk/event/menopause-update-for-the-nursing-team/
LOCATION:Online
ORGANIZER;CN="Wessex LMCs":MAILTO:023 8025 3874
END:VEVENT
BEGIN:VEVENT
DTSTART;TZID=Europe/London:20260513T130000
DTEND;TZID=Europe/London:20260513T163000
DTSTAMP:20260425T122940
CREATED:20260330T164159Z
LAST-MODIFIED:20260330T164159Z
UID:10000920-1778677200-1778689800@primarycaredorset.co.uk
SUMMARY:Paediatric Hot Topics
DESCRIPTION:
URL:https://primarycaredorset.co.uk/event/paediatric-hot-topics/
END:VEVENT
BEGIN:VEVENT
DTSTART;TZID=Europe/London:20260513T133000
DTEND;TZID=Europe/London:20260513T163000
DTSTAMP:20260425T122940
CREATED:20260330T165229Z
LAST-MODIFIED:20260330T165229Z
UID:10000925-1778679000-1778689800@primarycaredorset.co.uk
SUMMARY:Online Training for GP Receptionists: Signposting\, Prioritisation and Telephone Communication
DESCRIPTION:
URL:https://primarycaredorset.co.uk/event/online-training-for-gp-receptionists-signposting-prioritisation-and-telephone-communication-3/
LOCATION:Online
END:VEVENT
BEGIN:VEVENT
DTSTART;TZID=Europe/London:20260514T133000
DTEND;TZID=Europe/London:20260514T170000
DTSTAMP:20260425T122940
CREATED:20260330T165503Z
LAST-MODIFIED:20260330T165503Z
UID:10000926-1778765400-1778778000@primarycaredorset.co.uk
SUMMARY:Building Confidence and Resilience
DESCRIPTION:
URL:https://primarycaredorset.co.uk/event/building-confidence-and-resilience/
END:VEVENT
BEGIN:VEVENT
DTSTART;TZID=Europe/London:20260518T092000
DTEND;TZID=Europe/London:20260518T163000
DTSTAMP:20260425T122940
CREATED:20260330T165616Z
LAST-MODIFIED:20260330T165616Z
UID:10000927-1779096000-1779121800@primarycaredorset.co.uk
SUMMARY:The Menopause Course
DESCRIPTION:
URL:https://primarycaredorset.co.uk/event/the-menopause-course-4/
END:VEVENT
BEGIN:VEVENT
DTSTART;TZID=Europe/London:20260519T093000
DTEND;TZID=Europe/London:20260520T160000
DTSTAMP:20260425T122940
CREATED:20260330T165752Z
LAST-MODIFIED:20260330T165849Z
UID:10000928-1779183000-1779292800@primarycaredorset.co.uk
SUMMARY:Introduction to Vaccinations and Immunisations
DESCRIPTION:
URL:https://primarycaredorset.co.uk/event/introduction-to-vaccinations-and-immunisations-2/
ORGANIZER;CN="Wessex LMCs":MAILTO:023 8025 3874
END:VEVENT
BEGIN:VEVENT
DTSTART;TZID=Europe/London:20260527T090000
DTEND;TZID=Europe/London:20260527T170000
DTSTAMP:20260425T122940
CREATED:20260330T170225Z
LAST-MODIFIED:20260330T170258Z
UID:10000930-1779872400-1779901200@primarycaredorset.co.uk
SUMMARY:ECG Interpretation
DESCRIPTION:
URL:https://primarycaredorset.co.uk/event/ecg-interpretation/
END:VEVENT
BEGIN:VEVENT
DTSTART;TZID=Europe/London:20260529T093000
DTEND;TZID=Europe/London:20260529T123000
DTSTAMP:20260425T122940
CREATED:20260330T170102Z
LAST-MODIFIED:20260330T170102Z
UID:10000929-1780047000-1780057800@primarycaredorset.co.uk
SUMMARY:Understanding Medical Terminology
DESCRIPTION:To book\, please email: bookings@networkforpractices.co.uk
URL:https://primarycaredorset.co.uk/event/understanding-medical-terminology/
END:VEVENT
BEGIN:VEVENT
DTSTART;TZID=Europe/London:20260602T090000
DTEND;TZID=Europe/London:20260602T160000
DTSTAMP:20260425T122940
CREATED:20260417T110014Z
LAST-MODIFIED:20260417T110014Z
UID:10000932-1780390800-1780416000@primarycaredorset.co.uk
SUMMARY:Blood Test Analysis
DESCRIPTION:
URL:https://primarycaredorset.co.uk/event/blood-test-analysis/
END:VEVENT
BEGIN:VEVENT
DTSTART;TZID=Europe/London:20260602T133000
DTEND;TZID=Europe/London:20260602T163000
DTSTAMP:20260425T122940
CREATED:20260417T110247Z
LAST-MODIFIED:20260417T110323Z
UID:10000933-1780407000-1780417800@primarycaredorset.co.uk
SUMMARY:Online training for GP Receptionists: Signposting\, Prioritisation and Telephone Communication
DESCRIPTION:
URL:https://primarycaredorset.co.uk/event/online-training-for-gp-receptionists-signposting-prioritisation-and-telephone-communication-4/
LOCATION:Online
END:VEVENT
BEGIN:VEVENT
DTSTART;TZID=Europe/London:20260606T093000
DTEND;TZID=Europe/London:20260606T170000
DTSTAMP:20260425T122940
CREATED:20260417T105508Z
LAST-MODIFIED:20260417T105508Z
UID:10000931-1780738200-1780765200@primarycaredorset.co.uk
SUMMARY:Motivational Interviewing Introductory Workshop
DESCRIPTION:
URL:https://primarycaredorset.co.uk/event/motivational-interviewing-introductory-workshop/
ORGANIZER;CN="AECC":MAILTO:cpd@aecc.ac.uk.
END:VEVENT
BEGIN:VEVENT
DTSTART;TZID=Europe/London:20260608T093000
DTEND;TZID=Europe/London:20260608T130000
DTSTAMP:20260425T122940
CREATED:20260417T111106Z
LAST-MODIFIED:20260417T111106Z
UID:10000934-1780911000-1780923600@primarycaredorset.co.uk
SUMMARY:Clinical Supervisor Training
DESCRIPTION:
URL:https://primarycaredorset.co.uk/event/clinical-supervisor-training/
END:VEVENT
BEGIN:VEVENT
DTSTART;TZID=Europe/London:20260610T130000
DTEND;TZID=Europe/London:20260610T140000
DTSTAMP:20260425T122940
CREATED:20260417T111604Z
LAST-MODIFIED:20260417T111604Z
UID:10000936-1781096400-1781100000@primarycaredorset.co.uk
SUMMARY:Consultation Model for Managing Change\, loss\, bereavement
DESCRIPTION:
URL:https://primarycaredorset.co.uk/event/consultation-model-for-managing-change-loss-bereavement/
LOCATION:Online
ORGANIZER;CN="Wessex LMCs":MAILTO:023 8025 3874
END:VEVENT
BEGIN:VEVENT
DTSTART;TZID=Europe/London:20260611T133000
DTEND;TZID=Europe/London:20260611T163000
DTSTAMP:20260425T122940
CREATED:20260417T113224Z
LAST-MODIFIED:20260417T113224Z
UID:10000942-1781184600-1781195400@primarycaredorset.co.uk
SUMMARY:Trauma Informed Training
DESCRIPTION:
URL:https://primarycaredorset.co.uk/event/trauma-informed-training/
END:VEVENT
BEGIN:VEVENT
DTSTART;TZID=Europe/London:20260612T093000
DTEND;TZID=Europe/London:20260612T140000
DTSTAMP:20260425T122940
CREATED:20260417T111359Z
LAST-MODIFIED:20260417T111359Z
UID:10000935-1781256600-1781272800@primarycaredorset.co.uk
SUMMARY:Vaccination and Immunisation Update
DESCRIPTION:
URL:https://primarycaredorset.co.uk/event/vaccination-and-immunisation-update-3/
ORGANIZER;CN="Wessex LMCs":MAILTO:023 8025 3874
END:VEVENT
BEGIN:VEVENT
DTSTART;TZID=Europe/London:20260616T093000
DTEND;TZID=Europe/London:20260617T160000
DTSTAMP:20260425T122940
CREATED:20260417T111808Z
LAST-MODIFIED:20260417T111856Z
UID:10000937-1781602200-1781712000@primarycaredorset.co.uk
SUMMARY:Introduction to vaccinations and immunisations
DESCRIPTION:
URL:https://primarycaredorset.co.uk/event/introduction-to-vaccinations-and-immunisations-3/
LOCATION:Online
ORGANIZER;CN="Wessex LMCs":MAILTO:023 8025 3874
END:VEVENT
BEGIN:VEVENT
DTSTART;VALUE=DATE:20260617
DTEND;VALUE=DATE:20260618
DTSTAMP:20260425T122940
CREATED:20260417T112135Z
LAST-MODIFIED:20260417T112135Z
UID:10000938-1781654400-1781740799@primarycaredorset.co.uk
SUMMARY:ECG Interpretation
DESCRIPTION:
URL:https://primarycaredorset.co.uk/event/ecg-interpretation-2/
END:VEVENT
BEGIN:VEVENT
DTSTART;TZID=Europe/London:20260617T093000
DTEND;TZID=Europe/London:20260617T130000
DTSTAMP:20260425T122940
CREATED:20260417T112411Z
LAST-MODIFIED:20260417T112411Z
UID:10000939-1781688600-1781701200@primarycaredorset.co.uk
SUMMARY:Clinical Supervisor Training
DESCRIPTION:
URL:https://primarycaredorset.co.uk/event/clinical-supervisor-training-2/
END:VEVENT
BEGIN:VEVENT
DTSTART;TZID=Europe/London:20260618T092000
DTEND;TZID=Europe/London:20260618T130000
DTSTAMP:20260425T122940
CREATED:20260417T112611Z
LAST-MODIFIED:20260417T112611Z
UID:10000940-1781774400-1781787600@primarycaredorset.co.uk
SUMMARY:The Menopause Course
DESCRIPTION:
URL:https://primarycaredorset.co.uk/event/the-menopause-course-5/
END:VEVENT
BEGIN:VEVENT
DTSTART;TZID=Europe/London:20260623T093000
DTEND;TZID=Europe/London:20260625T153000
DTSTAMP:20260425T122940
CREATED:20260417T112809Z
LAST-MODIFIED:20260417T112809Z
UID:10000941-1782207000-1782401400@primarycaredorset.co.uk
SUMMARY:Minor Illness: 3 Day Workshop in Managing Common Conditions
DESCRIPTION:
URL:https://primarycaredorset.co.uk/event/minor-illness-3-day-workshop-in-managing-common-conditions/
LOCATION:Online
ORGANIZER;CN="Wessex LMCs":MAILTO:023 8025 3874
END:VEVENT
BEGIN:VEVENT
DTSTART;TZID=Europe/London:20260707T092000
DTEND;TZID=Europe/London:20260707T130000
DTSTAMP:20260425T122940
CREATED:20260417T114717Z
LAST-MODIFIED:20260417T114717Z
UID:10000943-1783416000-1783429200@primarycaredorset.co.uk
SUMMARY:The Menopause Course
DESCRIPTION:
URL:https://primarycaredorset.co.uk/event/the-menopause-course-6/
END:VEVENT
BEGIN:VEVENT
DTSTART;TZID=Europe/London:20260709T093000
DTEND;TZID=Europe/London:20260709T120000
DTSTAMP:20260425T122940
CREATED:20260417T114913Z
LAST-MODIFIED:20260417T114913Z
UID:10000944-1783589400-1783598400@primarycaredorset.co.uk
SUMMARY:HRT for Nurses
DESCRIPTION:
URL:https://primarycaredorset.co.uk/event/hrt-for-nurses/
LOCATION:Online
ORGANIZER;CN="Wessex LMCs":MAILTO:023 8025 3874
END:VEVENT
BEGIN:VEVENT
DTSTART;TZID=Europe/London:20260710T093000
DTEND;TZID=Europe/London:20260710T130000
DTSTAMP:20260425T122941
CREATED:20260417T115145Z
LAST-MODIFIED:20260417T115145Z
UID:10000945-1783675800-1783688400@primarycaredorset.co.uk
SUMMARY:Clinical Supervisor Training
DESCRIPTION:
URL:https://primarycaredorset.co.uk/event/clinical-supervisor-training-3/
END:VEVENT
BEGIN:VEVENT
DTSTART;TZID=Europe/London:20260715T123000
DTEND;TZID=Europe/London:20260715T140000
DTSTAMP:20260425T122941
CREATED:20260417T115445Z
LAST-MODIFIED:20260417T115445Z
UID:10000946-1784118600-1784124000@primarycaredorset.co.uk
SUMMARY:Prescribing Update for the Non-Medical Team
DESCRIPTION:
URL:https://primarycaredorset.co.uk/event/prescribing-update-for-the-non-medical-team/
LOCATION:Online
ORGANIZER;CN="Wessex LMCs":MAILTO:023 8025 3874
END:VEVENT
END:VCALENDAR