BEGIN:VCALENDAR
VERSION:2.0
PRODID:-//PCTH - ECPv6.15.20//NONSGML v1.0//EN
CALSCALE:GREGORIAN
METHOD:PUBLISH
X-ORIGINAL-URL:https://primarycaredorset.co.uk
X-WR-CALDESC:Events for PCTH
REFRESH-INTERVAL;VALUE=DURATION:PT1H
X-Robots-Tag:noindex
X-PUBLISHED-TTL:PT1H
BEGIN:VTIMEZONE
TZID:Europe/London
BEGIN:DAYLIGHT
TZOFFSETFROM:+0000
TZOFFSETTO:+0100
TZNAME:BST
DTSTART:20240331T010000
END:DAYLIGHT
BEGIN:STANDARD
TZOFFSETFROM:+0100
TZOFFSETTO:+0000
TZNAME:GMT
DTSTART:20241027T010000
END:STANDARD
BEGIN:DAYLIGHT
TZOFFSETFROM:+0000
TZOFFSETTO:+0100
TZNAME:BST
DTSTART:20250330T010000
END:DAYLIGHT
BEGIN:STANDARD
TZOFFSETFROM:+0100
TZOFFSETTO:+0000
TZNAME:GMT
DTSTART:20251026T010000
END:STANDARD
BEGIN:DAYLIGHT
TZOFFSETFROM:+0000
TZOFFSETTO:+0100
TZNAME:BST
DTSTART:20260329T010000
END:DAYLIGHT
BEGIN:STANDARD
TZOFFSETFROM:+0100
TZOFFSETTO:+0000
TZNAME:GMT
DTSTART:20261025T010000
END:STANDARD
BEGIN:DAYLIGHT
TZOFFSETFROM:+0000
TZOFFSETTO:+0100
TZNAME:BST
DTSTART:20270328T010000
END:DAYLIGHT
BEGIN:STANDARD
TZOFFSETFROM:+0100
TZOFFSETTO:+0000
TZNAME:GMT
DTSTART:20271031T010000
END:STANDARD
END:VTIMEZONE
BEGIN:VEVENT
DTSTART;TZID=Europe/London:20260424T093000
DTEND;TZID=Europe/London:20260424T123000
DTSTAMP:20260425T140900
CREATED:20260305T084354Z
LAST-MODIFIED:20260305T084354Z
UID:10000916-1777023000-1777033800@primarycaredorset.co.uk
SUMMARY:Contraception Update
DESCRIPTION:
URL:https://primarycaredorset.co.uk/event/contraception-update/
LOCATION:Online
ORGANIZER;CN="Wessex LMCs":MAILTO:023 8025 3874
END:VEVENT
BEGIN:VEVENT
DTSTART;TZID=Europe/London:20260423T092000
DTEND;TZID=Europe/London:20260423T163000
DTSTAMP:20260425T140900
CREATED:20260305T083851Z
LAST-MODIFIED:20260305T083851Z
UID:10000915-1776936000-1776961800@primarycaredorset.co.uk
SUMMARY:The Menopause Course
DESCRIPTION:
URL:https://primarycaredorset.co.uk/event/the-menopause-course/
END:VEVENT
BEGIN:VEVENT
DTSTART;TZID=Europe/London:20260422T133000
DTEND;TZID=Europe/London:20260422T163000
DTSTAMP:20260425T140900
CREATED:20260305T083704Z
LAST-MODIFIED:20260305T083704Z
UID:10000914-1776864600-1776875400@primarycaredorset.co.uk
SUMMARY:Online Training for GP Receptionists: Signposting\, Prioritisation and Telephone Communication
DESCRIPTION:
URL:https://primarycaredorset.co.uk/event/online-training-for-gp-receptionists-signposting-prioritisation-and-telephone-communication-2/
LOCATION:Online
END:VEVENT
BEGIN:VEVENT
DTSTART;TZID=Europe/London:20260421T093000
DTEND;TZID=Europe/London:20260421T160000
DTSTAMP:20260425T140900
CREATED:20260305T082947Z
LAST-MODIFIED:20260305T082947Z
UID:10000912-1776763800-1776787200@primarycaredorset.co.uk
SUMMARY:Introduction to Asthma & COPD
DESCRIPTION:
URL:https://primarycaredorset.co.uk/event/introduction-to-asthma-copd/
ORGANIZER;CN="Wessex LMCs":MAILTO:023 8025 3874
END:VEVENT
BEGIN:VEVENT
DTSTART;TZID=Europe/London:20260421T083000
DTEND;TZID=Europe/London:20260421T173000
DTSTAMP:20260425T140900
CREATED:20260305T083307Z
LAST-MODIFIED:20260305T083307Z
UID:10000913-1776760200-1776792600@primarycaredorset.co.uk
SUMMARY:Injection Update for FCPs
DESCRIPTION:
URL:https://primarycaredorset.co.uk/event/injection-update-for-fcps/
ORGANIZER;CN="AECC":MAILTO:cpd@aecc.ac.uk.
END:VEVENT
BEGIN:VEVENT
DTSTART;TZID=Europe/London:20260417T093000
DTEND;TZID=Europe/London:20260417T140000
DTSTAMP:20260425T140900
CREATED:20260305T075432Z
LAST-MODIFIED:20260305T075432Z
UID:10000910-1776418200-1776434400@primarycaredorset.co.uk
SUMMARY:Vaccination and Immunisation Update
DESCRIPTION:
URL:https://primarycaredorset.co.uk/event/vaccination-and-immunisation-update-2/
LOCATION:Online
ORGANIZER;CN="Wessex LMCs":MAILTO:023 8025 3874
END:VEVENT
BEGIN:VEVENT
DTSTART;TZID=Europe/London:20260416T093000
DTEND;TZID=Europe/London:20260416T130000
DTSTAMP:20260425T140900
CREATED:20260305T074939Z
LAST-MODIFIED:20260305T074939Z
UID:10000909-1776331800-1776344400@primarycaredorset.co.uk
SUMMARY:Clinical Supervision
DESCRIPTION:
URL:https://primarycaredorset.co.uk/event/clinical-supervision/
END:VEVENT
BEGIN:VEVENT
DTSTART;TZID=Europe/London:20260403T090000
DTEND;TZID=Europe/London:20260403T130000
DTSTAMP:20260425T140900
CREATED:20260305T074627Z
LAST-MODIFIED:20260305T074627Z
UID:10000908-1775206800-1775221200@primarycaredorset.co.uk
SUMMARY:MSK Image Interpretation and Clinical Reasoning for Healthcare Professionals
DESCRIPTION:
URL:https://primarycaredorset.co.uk/event/msk-image-interpretation-and-clinical-reasoning-for-healthcare-professionals/
ORGANIZER;CN="AECC":MAILTO:cpd@aecc.ac.uk.
END:VEVENT
BEGIN:VEVENT
DTSTART;TZID=Europe/London:20260326T093000
DTEND;TZID=Europe/London:20260326T140000
DTSTAMP:20260425T140900
CREATED:20260227T130913Z
LAST-MODIFIED:20260227T130913Z
UID:10000907-1774517400-1774533600@primarycaredorset.co.uk
SUMMARY:Vaccination and Immunisation Update
DESCRIPTION:
URL:https://primarycaredorset.co.uk/event/vaccination-and-immunisation-update/
LOCATION:Online
ORGANIZER;CN="Wessex LMCs":MAILTO:023 8025 3874
END:VEVENT
BEGIN:VEVENT
DTSTART;TZID=Europe/London:20260325T133000
DTEND;TZID=Europe/London:20260325T163000
DTSTAMP:20260425T140900
CREATED:20260227T130143Z
LAST-MODIFIED:20260227T130143Z
UID:10000906-1774445400-1774456200@primarycaredorset.co.uk
SUMMARY:Online Training for GP Receptionists: Signposting\, Prioritisation and Telephone Communication
DESCRIPTION:
URL:https://primarycaredorset.co.uk/event/online-training-for-gp-receptionists-signposting-prioritisation-and-telephone-communication/
LOCATION:Online
END:VEVENT
BEGIN:VEVENT
DTSTART;TZID=Europe/London:20260324T133000
DTEND;TZID=Europe/London:20260324T160000
DTSTAMP:20260425T140900
CREATED:20260227T125844Z
LAST-MODIFIED:20260227T125844Z
UID:10000905-1774359000-1774368000@primarycaredorset.co.uk
SUMMARY:Introduction to Teams
DESCRIPTION:
URL:https://primarycaredorset.co.uk/event/introduction-to-teams/
LOCATION:Online
END:VEVENT
BEGIN:VEVENT
DTSTART;TZID=Europe/London:20260324T093000
DTEND;TZID=Europe/London:20260324T160000
DTSTAMP:20260425T140900
CREATED:20260227T124703Z
LAST-MODIFIED:20260227T124703Z
UID:10000904-1774344600-1774368000@primarycaredorset.co.uk
SUMMARY:Introduction to Vaccinations and Immunisations
DESCRIPTION:
URL:https://primarycaredorset.co.uk/event/introduction-to-vaccinations-and-immunisations/
LOCATION:Online
END:VEVENT
BEGIN:VEVENT
DTSTART;TZID=Europe/London:20260320T133000
DTEND;TZID=Europe/London:20260320T160000
DTSTAMP:20260425T140900
CREATED:20260227T124411Z
LAST-MODIFIED:20260227T124411Z
UID:10000903-1774013400-1774022400@primarycaredorset.co.uk
SUMMARY:Microsoft Word - Introduction
DESCRIPTION:
URL:https://primarycaredorset.co.uk/event/microsoft-word-introduction/
LOCATION:Online
END:VEVENT
BEGIN:VEVENT
DTSTART;TZID=Europe/London:20260320T100000
DTEND;TZID=Europe/London:20260320T130000
DTSTAMP:20260425T140900
CREATED:20260227T124154Z
LAST-MODIFIED:20260227T124154Z
UID:10000902-1774000800-1774011600@primarycaredorset.co.uk
SUMMARY:SystmOne - Scanning
DESCRIPTION:
URL:https://primarycaredorset.co.uk/event/systmone-scanning/
LOCATION:Online
END:VEVENT
BEGIN:VEVENT
DTSTART;TZID=Europe/London:20260318T123000
DTEND;TZID=Europe/London:20260318T140000
DTSTAMP:20260425T140900
CREATED:20260227T123828Z
LAST-MODIFIED:20260227T123930Z
UID:10000901-1773837000-1773842400@primarycaredorset.co.uk
SUMMARY:Non-Medical Prescribing Update
DESCRIPTION:
URL:https://primarycaredorset.co.uk/event/non-medical-prescribing-update-2/
LOCATION:Online
ORGANIZER;CN="Wessex LMCs":MAILTO:023 8025 3874
END:VEVENT
BEGIN:VEVENT
DTSTART;TZID=Europe/London:20260318T123000
DTEND;TZID=Europe/London:20260318T140000
DTSTAMP:20260425T140900
CREATED:20260227T123155Z
LAST-MODIFIED:20260227T123237Z
UID:10000900-1773837000-1773842400@primarycaredorset.co.uk
SUMMARY:SystmOne - Reporting
DESCRIPTION:
URL:https://primarycaredorset.co.uk/event/systmone-reporting/
LOCATION:Online
END:VEVENT
BEGIN:VEVENT
DTSTART;TZID=Europe/London:20260317T093000
DTEND;TZID=Europe/London:20260319T153000
DTSTAMP:20260425T140900
CREATED:20260227T122836Z
LAST-MODIFIED:20260227T122915Z
UID:10000899-1773739800-1773934200@primarycaredorset.co.uk
SUMMARY:Acute Minor Illness
DESCRIPTION:
URL:https://primarycaredorset.co.uk/event/acute-minor-illness/
LOCATION:Online
ORGANIZER;CN="Wessex LMCs":MAILTO:023 8025 3874
END:VEVENT
BEGIN:VEVENT
DTSTART;TZID=Europe/London:20260316T100000
DTEND;TZID=Europe/London:20260316T120000
DTSTAMP:20260425T140900
CREATED:20260227T122003Z
LAST-MODIFIED:20260227T122003Z
UID:10000898-1773655200-1773662400@primarycaredorset.co.uk
SUMMARY:SystmOne - Admin of the Patient Record
DESCRIPTION:
URL:https://primarycaredorset.co.uk/event/systmone-admin-of-the-patient-record/
LOCATION:Online
END:VEVENT
BEGIN:VEVENT
DTSTART;TZID=Europe/London:20260313T100000
DTEND;TZID=Europe/London:20260313T113000
DTSTAMP:20260425T140900
CREATED:20260227T121742Z
LAST-MODIFIED:20260227T121742Z
UID:10000897-1773396000-1773401400@primarycaredorset.co.uk
SUMMARY:SystmOne - Messaging
DESCRIPTION:
URL:https://primarycaredorset.co.uk/event/systmone-messaging/
LOCATION:Online
END:VEVENT
BEGIN:VEVENT
DTSTART;TZID=Europe/London:20260312T100000
DTEND;TZID=Europe/London:20260312T123000
DTSTAMP:20260425T140900
CREATED:20260227T121412Z
LAST-MODIFIED:20260227T121412Z
UID:10000896-1773309600-1773318600@primarycaredorset.co.uk
SUMMARY:Microsoft PowerPoint - Creating Effective Presentations
DESCRIPTION:
URL:https://primarycaredorset.co.uk/event/microsoft-powerpoint-creating-effective-presentations/
LOCATION:Online
END:VEVENT
BEGIN:VEVENT
DTSTART;TZID=Europe/London:20260312T093000
DTEND;TZID=Europe/London:20260312T143000
DTSTAMP:20260425T140900
CREATED:20260227T120708Z
LAST-MODIFIED:20260227T120708Z
UID:10000895-1773307800-1773325800@primarycaredorset.co.uk
SUMMARY:Introduction to Basic Contraception
DESCRIPTION:
URL:https://primarycaredorset.co.uk/event/introduction-to-basic-contraception/
LOCATION:Online
ORGANIZER;CN="Wessex LMCs":MAILTO:023 8025 3874
END:VEVENT
BEGIN:VEVENT
DTSTART;TZID=Europe/London:20260310T110000
DTEND;TZID=Europe/London:20260310T130000
DTSTAMP:20260425T140900
CREATED:20260227T100717Z
LAST-MODIFIED:20260227T100717Z
UID:10000893-1773140400-1773147600@primarycaredorset.co.uk
SUMMARY:SystmOne - Appointments and Visits Basics
DESCRIPTION:
URL:https://primarycaredorset.co.uk/event/systmone-appointments-and-visits-basics/
LOCATION:Online
END:VEVENT
BEGIN:VEVENT
DTSTART;TZID=Europe/London:20260310T090000
DTEND;TZID=Europe/London:20260310T113000
DTSTAMP:20260425T140900
CREATED:20260227T120416Z
LAST-MODIFIED:20260227T120416Z
UID:10000894-1773133200-1773142200@primarycaredorset.co.uk
SUMMARY:Microsoft Excel - Using Pivot Tables
DESCRIPTION:
URL:https://primarycaredorset.co.uk/event/microsoft-excel-using-pivot-tables/
LOCATION:Online
END:VEVENT
BEGIN:VEVENT
DTSTART;TZID=Europe/London:20260306T140000
DTEND;TZID=Europe/London:20260306T153000
DTSTAMP:20260425T140900
CREATED:20260227T095822Z
LAST-MODIFIED:20260227T095822Z
UID:10000891-1772805600-1772811000@primarycaredorset.co.uk
SUMMARY:Care Identity Management - RA and Sponsor Training
DESCRIPTION:
URL:https://primarycaredorset.co.uk/event/care-identity-management-ra-and-sponsor-training/
LOCATION:Online
END:VEVENT
BEGIN:VEVENT
DTSTART;TZID=Europe/London:20260306T100000
DTEND;TZID=Europe/London:20260306T123000
DTSTAMP:20260425T140900
CREATED:20260227T100317Z
LAST-MODIFIED:20260227T100317Z
UID:10000892-1772791200-1772800200@primarycaredorset.co.uk
SUMMARY:Microsoft Excel - Manipulating Data
DESCRIPTION:
URL:https://primarycaredorset.co.uk/event/microsoft-excel-manipulating-data/
LOCATION:Online
END:VEVENT
BEGIN:VEVENT
DTSTART;TZID=Europe/London:20260305T100000
DTEND;TZID=Europe/London:20260305T123000
DTSTAMP:20260425T140900
CREATED:20260227T095112Z
LAST-MODIFIED:20260227T095112Z
UID:10000890-1772704800-1772713800@primarycaredorset.co.uk
SUMMARY:SystmOne - Introduction
DESCRIPTION:
URL:https://primarycaredorset.co.uk/event/systmone-introduction/
LOCATION:Online
END:VEVENT
BEGIN:VEVENT
DTSTART;TZID=Europe/London:20260304T133000
DTEND;TZID=Europe/London:20260304T160000
DTSTAMP:20260425T140900
CREATED:20260227T094414Z
LAST-MODIFIED:20260227T094414Z
UID:10000889-1772631000-1772640000@primarycaredorset.co.uk
SUMMARY:Introduction to Excel
DESCRIPTION:
URL:https://primarycaredorset.co.uk/event/introduction-to-excel/
LOCATION:Online
END:VEVENT
BEGIN:VEVENT
DTSTART;TZID=Europe/London:20250305T093000
DTEND;TZID=Europe/London:20250305T123000
DTSTAMP:20260425T140900
CREATED:20240828T124405Z
LAST-MODIFIED:20240828T124405Z
UID:10000887-1741167000-1741177800@primarycaredorset.co.uk
SUMMARY:Virtual Workshop | Making Meetings More Productive
DESCRIPTION:The Primary Care Academy (South West) would like to invite you to attend \n“Making Meetings More Productive” educational session which will be held on: \nWednesday 5th March 2025  0930-1230 \n  \nHave you ever wondered why some meetings feel more effective and enjoyable than others? \nEveryone present can have an influence on how useful a meeting is\, and this workshop is aimed at those who are responsible for organising and chairing meetings\, as well as those participating in discussions\, and aims to: \n* Explore the practicalities of arranging meetings and what factors can influence the productivity of meetings \n* Maximising the benefit from meetings and ensuring the meeting stays on track and time allocated is used most effectively \n* Explore how different personality types can influence the course of a meeting\, and how we can play to individual strengths to get the most out of our teams \n* Explore what makes a good chair/facilitator of a meeting and how to deal with challenging situations \nFacilitator:   Dr Andy Eaton \nRegistration: To register your interest for this event\, please complete the booking form: https://forms.office.com/e/yZe2fTPLVE \n  \nWe would like to encourage participants to be in a quiet environment where they can engage\, interact and talk to others with their camera on. \nQuestions about the event or the Primary Care Academy should be sent to:  England.PrimaryCareAcademy.sw@nhs.net
URL:https://primarycaredorset.co.uk/event/virtual-workshop-making-meetings-more-productive/
LOCATION:Online
ATTACH;FMTTYPE=image/jpeg:https://primarycaredorset.co.uk/wp-content/uploads/2023/06/education.jpg
END:VEVENT
BEGIN:VEVENT
DTSTART;TZID=Europe/London:20250205T093000
DTEND;TZID=Europe/London:20250205T123000
DTSTAMP:20260425T140900
CREATED:20240828T123707Z
LAST-MODIFIED:20240828T123707Z
UID:10000886-1738747800-1738758600@primarycaredorset.co.uk
SUMMARY:Virtual Workshop | Time Management
DESCRIPTION:The Primary Care Academy (South West) would like to invite you to attend \n“Time Management” educational session which will be held on: \nWednesday 5th February 2025  0930-1230 \nDo you always run late? \nDo you often find that you are in a hurry to do important tasks that creep up on you at the last minute? \nDo you sometimes find it difficult to plan for or remember important meetings (or worse still family / social occasions) \n  \nDuring this workshop we will: \n\nExplore some tried and tested techniques that can be taken away which will improve our\n\ntime management \n\nDiscuss strategies that will help us to be more effective clinically and to run more to time in\n\nClinic \n\nTo raise awareness of things that are likely to steal our time and share time savings tips\nTo remind ourselves of the principles of effective delegation and prioritisation\n\nFacilitator:  Dr Andy Eaton \nRegistration: To register your interest for this event\, please complete the booking form link:  https://forms.office.com/e/LyXQUB592F \n  \nWe would like to encourage participants to be in a quiet environment where they can engage\, interact and talk to others with their camera on. \n  \nQuestions about the event or the Primary Care Academy should be sent to:  England.PrimaryCareAcademy.sw@nhs.net
URL:https://primarycaredorset.co.uk/event/virtual-workshop-time-management/
LOCATION:Online
ATTACH;FMTTYPE=image/jpeg:https://primarycaredorset.co.uk/wp-content/uploads/2023/06/dorset-sessional-positions.jpg
END:VEVENT
BEGIN:VEVENT
DTSTART;TZID=Europe/London:20250116T123000
DTEND;TZID=Europe/London:20250116T140000
DTSTAMP:20260425T140900
CREATED:20240514T121604Z
LAST-MODIFIED:20240514T121604Z
UID:10000873-1737030600-1737036000@primarycaredorset.co.uk
SUMMARY:Virtual QOF Updates
DESCRIPTION:Please join  Point Six for this informative session including everything QoF for your Practice\, led by Greg Bloom \nThis session will: \n•      provide an overview of QoF Domains for 2024-25 \n•      discuss the changes to QoF 2024-25 \n•      provide some ideas / Top Tips on the best ways of achieving QoF for 2023-24 \n•      live Q&A with expert Trainer\, Greg Bloom \nYou will receive a certificate of attendance with 90 minutes of educational content towards your Continued Professional Development upon completion of this course. \n  \nFor more information and to book your place\, please follow this link
URL:https://primarycaredorset.co.uk/event/virtual-qof-updates-3/
LOCATION:Online
ATTACH;FMTTYPE=image/jpeg:https://primarycaredorset.co.uk/wp-content/uploads/2024/05/Point-Six.jpg
END:VEVENT
END:VCALENDAR