BEGIN:VCALENDAR
VERSION:2.0
PRODID:-//PCTH - ECPv6.15.20//NONSGML v1.0//EN
CALSCALE:GREGORIAN
METHOD:PUBLISH
X-ORIGINAL-URL:https://primarycaredorset.co.uk
X-WR-CALDESC:Events for PCTH
REFRESH-INTERVAL;VALUE=DURATION:PT1H
X-Robots-Tag:noindex
X-PUBLISHED-TTL:PT1H
BEGIN:VTIMEZONE
TZID:Europe/London
BEGIN:DAYLIGHT
TZOFFSETFROM:+0000
TZOFFSETTO:+0100
TZNAME:BST
DTSTART:20220327T010000
END:DAYLIGHT
BEGIN:STANDARD
TZOFFSETFROM:+0100
TZOFFSETTO:+0000
TZNAME:GMT
DTSTART:20221030T010000
END:STANDARD
BEGIN:DAYLIGHT
TZOFFSETFROM:+0000
TZOFFSETTO:+0100
TZNAME:BST
DTSTART:20230326T010000
END:DAYLIGHT
BEGIN:STANDARD
TZOFFSETFROM:+0100
TZOFFSETTO:+0000
TZNAME:GMT
DTSTART:20231029T010000
END:STANDARD
BEGIN:DAYLIGHT
TZOFFSETFROM:+0000
TZOFFSETTO:+0100
TZNAME:BST
DTSTART:20240331T010000
END:DAYLIGHT
BEGIN:STANDARD
TZOFFSETFROM:+0100
TZOFFSETTO:+0000
TZNAME:GMT
DTSTART:20241027T010000
END:STANDARD
END:VTIMEZONE
BEGIN:VEVENT
DTSTART;TZID=Europe/London:20230629T180000
DTEND;TZID=Europe/London:20230629T191500
DTSTAMP:20260425T182511
CREATED:20230602T114035Z
LAST-MODIFIED:20230602T115345Z
UID:10000850-1688061600-1688066100@primarycaredorset.co.uk
SUMMARY:Preventing premature CVD: Familial Hyperlipidaemia Webinar
DESCRIPTION:Preventing premature CVD: Familial Hyperlipidaemia Webinar – 29 June 2023 at 6pmPart of the Mastering cholesterol to optimise CVD prevention collection \nDuring this virtual session\, we will focus on Familial Hyperlipidaemia with a view to increasing understanding and building confidence in this field. We will discuss risk factors\, specialist referrals\, diagnostic pathways including genetic testing\, and factors for consideration during longer term patient management. \nSpeakers include: \n\nJoanne Brown\, Clinical Nurse Specialist and Service Lead – Cheshire and Merseyside FH Service\nMarie Wilcock\, Advanced Practitioner – Blackpool Lipid Clinic\n\nThe session will be delivered via Zoom and delegates will receive joining instructions and an invitation to submit questions ahead of the event. Registrants will receive a link to the recorded session after the event. \nWe look forward to welcoming you.
URL:https://primarycaredorset.co.uk/event/preventing-premature-cvd-familial-hyperlipidaemia-webinar-2/
LOCATION:Online
ATTACH;FMTTYPE=image/jpeg:https://primarycaredorset.co.uk/wp-content/uploads/2020/07/Healthcare-improvements-768x397-1.jpg
END:VEVENT
BEGIN:VEVENT
DTSTART;TZID=Europe/London:20230620T193000
DTEND;TZID=Europe/London:20230620T220000
DTSTAMP:20260425T182511
CREATED:20230602T112342Z
LAST-MODIFIED:20230602T115815Z
UID:10000802-1687289400-1687298400@primarycaredorset.co.uk
SUMMARY:South West Primary Care Academy: Personal Resilience and Wellbeing
DESCRIPTION:South West Primary Care Academy Educational Session: Personal Resilience and Wellbeing\nTuesday 20th June 2023 / 18:30 – 21:00 \nVirtual workshop \nThe Primary Care Academy (South West) would like to invite you to attend a “Personal Resilience and Wellbeing” workshop with Dr Vik Mohan. \nIn this two and a half hour interactive workshop we will introduce you to some important evidence and ideas on how to maintain lifelong wellbeing\, and give you the opportunity to work out how to survive and thrive as a GP. \n Dr Vik Mohan is an Exeter based GP\, Director of Community Health at Blue Ventures Conservation\, appraiser\, life coach and wellbeing practitioner. \nAfter two decades of working as a GP\, he has seen first-hand how important it is that doctors look after themselves. Having spent the last five years learning about wellbeing and resilience\, he now spends time working with individual clinicians\, teams and leaders to promote greater wellbeing within the GP community. \nRegistration \nTo register your interest for this event\, please complete the MS Form by clicking on the link\, below: \nhttps://forms.office.com/e/1Qv5jY3BMT \nQuestions about the event or the Primary Care Academy should be sent to: \nPrimaryCareAcademy.SW@hee.nhs.uk
URL:https://primarycaredorset.co.uk/event/south-west-primary-care-academy-personal-resilience-and-wellbeing/
LOCATION:Online
ATTACH;FMTTYPE=image/jpeg:https://primarycaredorset.co.uk/wp-content/uploads/2020/04/634345152-doctor-images-free-e1626437648835.jpg
END:VEVENT
END:VCALENDAR